BEGIN:VCALENDAR
VERSION:2.0
PRODID: -//CMS 5.0 //NONSGML //DE
BEGIN:VEVENT
SUMMARY:Probe Frauenchor
DESCRIPTION:\n\nhttps://verden-aller.nak-nordost.de/db/576033
UID:576033@verden-aller.nak-nordost.de
LOCATION:
CATEGORIES:Kirchenbezirk Bremen (Alle Gemeinden)
X-ORGANIZER:
STATUS:CONFIRMED
CLASS:PUBLIC
DTSTART:20260512T173000Z
DTEND:20260512T173000Z
DTSTAMP:20260420T145815Z
CREATED:20260117T192524Z
LAST-MODIFIED:20260117T192524Z
BEGIN:VALARM
UID:5BF8887A-3CC9-11F1-AE16-CD5E5429324C
TRIGGER:-PT60M
ACTION:DISPLAY
DESCRIPTION:SUMMARY:Probe Frauenchor
END:VALARM
END:VEVENT
END:VCALENDAR
