BEGIN:VCALENDAR
VERSION:2.0
PRODID: -//CMS 5.0 //NONSGML //DE
BEGIN:VEVENT
SUMMARY:Jugendfreizeit Borkum
DESCRIPTION:Mehr Infos unter borkum2026.nak-nordost.de\n\n\n\nhttps://ve
 rden-aller.nak-nordost.de/db/584271
UID:584271@verden-aller.nak-nordost.de
LOCATION:
CATEGORIES:Jugend,Kirchenbezirk Bremen (Alle Gemeinden),Jugendgottesdienst,Freizeit
X-ORGANIZER:
STATUS:CONFIRMED
CLASS:PUBLIC
DTSTART;VALUE=DATE:20260514
DTEND;VALUE=DATE:20260515
DTSTAMP:20260420T150631Z
CREATED:20260214T131009Z
LAST-MODIFIED:20260214T131009Z
BEGIN:VALARM
UID:83E63F66-3CCA-11F1-A52C-6C845429324C
TRIGGER:-PT60M
ACTION:DISPLAY
DESCRIPTION:SUMMARY:Jugendfreizeit Borkum
END:VALARM
END:VEVENT
END:VCALENDAR
