BEGIN:VCALENDAR
VERSION:2.0
PRODID: -//CMS 5.0 //NONSGML //DE
BEGIN:VEVENT
SUMMARY:offener Gesprächsabend zum Thema „Das Glaubensbekenntnis“
DESCRIPTION:Alle Interessierten sind herzlich willkommen.\n\n\n\nhttps:/
 /verden-aller.nak-nordost.de/db/600827
UID:600827@verden-aller.nak-nordost.de
LOCATION:
CATEGORIES:Kirchenbezirk Bremen (Alle Gemeinden)
X-ORGANIZER:
STATUS:CONFIRMED
CLASS:PUBLIC
DTSTART:20260518T173000Z
DTEND:20260518T173000Z
DTSTAMP:20260420T150459Z
CREATED:20260414T183358Z
LAST-MODIFIED:20260414T183358Z
BEGIN:VALARM
UID:4CC10868-3CCA-11F1-8914-51DC5429324C
TRIGGER:-PT60M
ACTION:DISPLAY
DESCRIPTION:SUMMARY:offener Gesprächsabend zum Thema „Das Glaubensbekenntnis“
END:VALARM
END:VEVENT
END:VCALENDAR
